BEGIN:VCALENDAR
VERSION:2.0
PRODID:-//Office of Justice Programs//NONSGML Event Calendar//EN
BEGIN:VEVENT
UID:5467b8e1-df5d-4497-a2c7-4b9d89de2f72
DTSTART;TZID=UTC:20230531T180000
SEQUENCE:0
TRANSP:OPAQUE
DTEND;TZID=UTC:20230531T193000
LOCATION:https://www.ojp.gov/events/what-law-enforcement-need-know-about-de
 velopmental-disabilities-tips-officer-and-his-son
SUMMARY:What Law Enforcement Need to Know About Developmental Disabilities:
  Tips from an Officer and His Son
CLASS:PUBLIC
DESCRIPTION:Learn more about this event: https://www.ojp.gov/events/what-la
 w-enforcement-need-know-about-developmental-disabilities-tips-officer-and-
 his-son
DTSTAMP:20260424T030355Z
END:VEVENT
END:VCALENDAR