BEGIN:VCALENDAR
VERSION:2.0
PRODID:-//Office of Justice Programs//NONSGML Event Calendar//EN
BEGIN:VEVENT
UID:2a070dd3-167a-4edf-91c9-8a609e1237e8
DTSTART;TZID=UTC:20230807T140000
SEQUENCE:0
TRANSP:OPAQUE
DTEND;TZID=UTC:20230810T213000
LOCATION:https://www.ojp.gov/events/forensic-interviewing-children-1
SUMMARY:Forensic Interviewing of Children
CLASS:PUBLIC
DESCRIPTION:Learn more about this event: https://www.ojp.gov/events/forensi
 c-interviewing-children-1
DTSTAMP:20260409T185045Z
END:VEVENT
END:VCALENDAR