BEGIN:VCALENDAR
VERSION:2.0
PRODID:-//Office of Justice Programs//NONSGML Event Calendar//EN
BEGIN:VEVENT
UID:5310518a-2620-4194-9710-dc7b7b9a0458
DTSTART;TZID=UTC:20230918T140000
SEQUENCE:0
TRANSP:OPAQUE
DTEND;TZID=UTC:20230921T213000
LOCATION:https://www.ojp.gov/events/forensic-interviewing-children-3
SUMMARY:Forensic Interviewing of Children
CLASS:PUBLIC
DESCRIPTION:Learn more about this event: https://www.ojp.gov/events/forensi
 c-interviewing-children-3
DTSTAMP:20260409T084037Z
END:VEVENT
END:VCALENDAR