BEGIN:VCALENDAR
VERSION:2.0
PRODID:-//Office of Justice Programs//NONSGML Event Calendar//EN
BEGIN:VEVENT
UID:020a4f6c-6cb8-4295-bf9a-fed14b296428
DTSTART;TZID=UTC:20231023T140000
SEQUENCE:0
TRANSP:OPAQUE
DTEND;TZID=UTC:20231026T213000
LOCATION:https://www.ojp.gov/events/forensic-interviewing-children-4
SUMMARY:Forensic Interviewing of Children
CLASS:PUBLIC
DESCRIPTION:Learn more about this event: https://www.ojp.gov/events/forensi
 c-interviewing-children-4
DTSTAMP:20260419T125823Z
END:VEVENT
END:VCALENDAR