BEGIN:VCALENDAR
VERSION:2.0
PRODID:-//Office of Justice Programs//NONSGML Event Calendar//EN
BEGIN:VEVENT
UID:71947ce9-e241-4673-bbc9-4e6ac65efb3e
DTSTART;TZID=UTC:20231106T150000
SEQUENCE:0
TRANSP:OPAQUE
DTEND;TZID=UTC:20231109T223000
LOCATION:https://www.ojp.gov/events/forensic-interviewing-children-5
SUMMARY:Forensic Interviewing of Children
CLASS:PUBLIC
DESCRIPTION:Learn more about this event: https://www.ojp.gov/events/forensi
 c-interviewing-children-5
DTSTAMP:20260419T125902Z
END:VEVENT
END:VCALENDAR