BEGIN:VCALENDAR
VERSION:2.0
PRODID:-//Office of Justice Programs//NONSGML Event Calendar//EN
BEGIN:VEVENT
UID:76b21ada-c5f6-4f4c-b2f1-3ddbf1983a4a
DTSTART;TZID=UTC:20230803T150000
SEQUENCE:0
TRANSP:OPAQUE
DTEND;TZID=UTC:20230803T220000
LOCATION:https://www.ojp.gov/events/child-abuse-suspicion-disclosure
SUMMARY:Child Abuse: From Suspicion to Disclosure
CLASS:PUBLIC
DESCRIPTION:Learn more about this event: https://www.ojp.gov/events/child-a
 buse-suspicion-disclosure
DTSTAMP:20260410T101239Z
END:VEVENT
END:VCALENDAR