BEGIN:VCALENDAR
VERSION:2.0
PRODID:-//Office of Justice Programs//NONSGML Event Calendar//EN
BEGIN:VEVENT
UID:861d6658-cddf-4783-898e-2303cd0a6903
DTSTART;TZID=UTC:20230830T140000
SEQUENCE:0
TRANSP:OPAQUE
DTEND;TZID=UTC:20230830T210000
LOCATION:https://www.ojp.gov/events/child-abuse-suspicion-disclosure-0
SUMMARY:Child Abuse: From Suspicion to Disclosure
CLASS:PUBLIC
DESCRIPTION:Learn more about this event: https://www.ojp.gov/events/child-a
 buse-suspicion-disclosure-0
DTSTAMP:20260410T153633Z
END:VEVENT
END:VCALENDAR