BEGIN:VCALENDAR
VERSION:2.0
PRODID:-//Office of Justice Programs//NONSGML Event Calendar//EN
BEGIN:VEVENT
UID:6c050f8d-97ff-41e2-952d-d3bb946fcfe4
DTSTART;TZID=UTC:20240418T190000
SEQUENCE:0
TRANSP:OPAQUE
DTEND;TZID=UTC:20240418T201500
LOCATION:https://www.ojp.gov/events/understanding-and-implementing-victim-s
 ervices-documentation-practices
SUMMARY:Understanding and Implementing Victim Services Documentation Practi
 ces
CLASS:PUBLIC
DESCRIPTION:Learn more about this event: https://www.ojp.gov/events/underst
 anding-and-implementing-victim-services-documentation-practices
DTSTAMP:20260410T145210Z
END:VEVENT
END:VCALENDAR