BEGIN:VCALENDAR
VERSION:2.0
PRODID:-//Office of Justice Programs//NONSGML Event Calendar//EN
BEGIN:VEVENT
UID:5ab50be1-dd1f-4704-9225-b5125abc4f21
DTSTART;TZID=UTC:20230824T190000
SEQUENCE:0
TRANSP:OPAQUE
DTEND;TZID=UTC:20230824T191500
LOCATION:https://www.ojp.gov/events/today-juvenile-justice-administrator-up
 date-0
SUMMARY:Today in Juvenile Justice: Administrator Update
CLASS:PUBLIC
DESCRIPTION:Learn more about this event: https://www.ojp.gov/events/today-j
 uvenile-justice-administrator-update-0
DTSTAMP:20260423T032101Z
END:VEVENT
END:VCALENDAR