BEGIN:VCALENDAR
VERSION:2.0
PRODID:-//Office of Justice Programs//NONSGML Event Calendar//EN
BEGIN:VEVENT
UID:e9291753-fc3c-4e28-897e-8cc85a3b3f17
DTSTART;TZID=UTC:20240123T190000
SEQUENCE:0
TRANSP:OPAQUE
DTEND;TZID=UTC:20240123T203000
LOCATION:https://www.ojp.gov/events/shielding-your-well-being-transformatio
 nal-meaning
SUMMARY:Shielding Your Well-Being: Transformational Meaning
CLASS:PUBLIC
DESCRIPTION:Learn more about this event: https://www.ojp.gov/events/shieldi
 ng-your-well-being-transformational-meaning
DTSTAMP:20260423T123504Z
END:VEVENT
END:VCALENDAR