BEGIN:VCALENDAR
VERSION:2.0
PRODID:-//Office of Justice Programs//NONSGML Event Calendar//EN
BEGIN:VEVENT
UID:86f11d99-6c7f-4ef8-aa84-586599c0eb6e
DTSTART;VALUE=DATE:20231114
SEQUENCE:0
TRANSP:OPAQUE
DTEND;VALUE=DATE:20231116
LOCATION:https://www.ojp.gov/events/accessing-grants-strengthen-tribal-just
 ice-system-capacity
SUMMARY:Accessing Grants to Strengthen Tribal Justice System Capacity
CLASS:PUBLIC
DESCRIPTION:Learn more about this event: https://www.ojp.gov/events/accessi
 ng-grants-strengthen-tribal-justice-system-capacity
X-MICROSOFT-CDO-ALLDAYEVENT:TRUE
DTSTAMP:20260410T114620Z
END:VEVENT
END:VCALENDAR