BEGIN:VCALENDAR
VERSION:2.0
PRODID:-//Office of Justice Programs//NONSGML Event Calendar//EN
BEGIN:VEVENT
UID:5292bfad-17ad-4010-b6d7-6b065c70e060
DTSTART;TZID=UTC:20231011T170000
SEQUENCE:0
TRANSP:OPAQUE
DTEND;TZID=UTC:20231011T210000
LOCATION:https://www.ojp.gov/events/tribal-consultation-and-listening-sessi
 on-alaska
SUMMARY:Tribal Consultation and Listening Session - Alaska
CLASS:PUBLIC
DESCRIPTION:Learn more about this event: https://www.ojp.gov/events/tribal-
 consultation-and-listening-session-alaska
DTSTAMP:20260423T014724Z
END:VEVENT
END:VCALENDAR