BEGIN:VCALENDAR
VERSION:2.0
PRODID:-//Office of Justice Programs//NONSGML Event Calendar//EN
BEGIN:VEVENT
UID:44e95b99-bf90-4bfa-922c-9c1fd45327e5
DTSTART;TZID=UTC:20240116T140000
SEQUENCE:0
TRANSP:OPAQUE
DTEND;TZID=UTC:20240118T230000
LOCATION:https://www.ojp.gov/events/child-abduction-response-team-training-
 21
SUMMARY:Child Abduction Response Team Training
CLASS:PUBLIC
DESCRIPTION:Learn more about this event: https://www.ojp.gov/events/child-a
 bduction-response-team-training-21
DTSTAMP:20260424T035827Z
END:VEVENT
END:VCALENDAR