BEGIN:VCALENDAR
VERSION:2.0
PRODID:-//Office of Justice Programs//NONSGML Event Calendar//EN
BEGIN:VEVENT
UID:68220b89-c97c-4314-85dd-1c730174c59f
DTSTART;TZID=UTC:20240221T140000
SEQUENCE:0
TRANSP:OPAQUE
DTEND;TZID=UTC:20240223T230000
LOCATION:https://www.ojp.gov/events/child-abduction-response-team-training-
 22
SUMMARY:Child Abduction Response Team Training
CLASS:PUBLIC
DESCRIPTION:Learn more about this event: https://www.ojp.gov/events/child-a
 bduction-response-team-training-22
DTSTAMP:20260425T025545Z
END:VEVENT
END:VCALENDAR