BEGIN:VCALENDAR
VERSION:2.0
PRODID:-//Office of Justice Programs//NONSGML Event Calendar//EN
BEGIN:VEVENT
UID:e2edc3d4-8d30-4891-a7ce-8b4fa3485c62
DTSTART;TZID=UTC:20231204T140000
SEQUENCE:0
TRANSP:OPAQUE
DTEND;TZID=UTC:20231206T230000
LOCATION:https://www.ojp.gov/events/child-abduction-response-team-training-
 23
SUMMARY:Child Abduction Response Team Training
CLASS:PUBLIC
DESCRIPTION:Learn more about this event: https://www.ojp.gov/events/child-a
 bduction-response-team-training-23
DTSTAMP:20260425T025544Z
END:VEVENT
END:VCALENDAR