BEGIN:VCALENDAR
VERSION:2.0
PRODID:-//Office of Justice Programs//NONSGML Event Calendar//EN
BEGIN:VEVENT
UID:d2d5d9f5-0308-4eab-b31a-ab216be3e04f
DTSTART;TZID=UTC:20240319T130000
SEQUENCE:0
TRANSP:OPAQUE
DTEND;TZID=UTC:20240321T220000
LOCATION:https://www.ojp.gov/events/child-abduction-response-team-training-
 24
SUMMARY:Child Abduction Response Team Training
CLASS:PUBLIC
DESCRIPTION:Learn more about this event: https://www.ojp.gov/events/child-a
 bduction-response-team-training-24
DTSTAMP:20260425T025542Z
END:VEVENT
END:VCALENDAR