BEGIN:VCALENDAR
VERSION:2.0
PRODID:-//Office of Justice Programs//NONSGML Event Calendar//EN
BEGIN:VEVENT
UID:a88422e6-33ae-41a5-a642-c4bbe26567c9
DTSTART;TZID=UTC:20240111T140000
SEQUENCE:0
TRANSP:OPAQUE
DTEND;TZID=UTC:20240111T180000
LOCATION:https://www.ojp.gov/events/child-abduction-tabletop-exercise-2
SUMMARY:Child Abduction Tabletop Exercise
CLASS:PUBLIC
DESCRIPTION:Learn more about this event: https://www.ojp.gov/events/child-a
 bduction-tabletop-exercise-2
DTSTAMP:20260424T043052Z
END:VEVENT
END:VCALENDAR