BEGIN:VCALENDAR
VERSION:2.0
PRODID:-//Office of Justice Programs//NONSGML Event Calendar//EN
BEGIN:VEVENT
UID:378e3697-6d46-4a6b-be26-8e847e6ce107
DTSTART;TZID=UTC:20240122T133000
SEQUENCE:0
TRANSP:OPAQUE
DTEND;TZID=UTC:20240126T213000
LOCATION:https://www.ojp.gov/events/conducting-child-abuse-investigations-1
 4
SUMMARY:Conducting Child Abuse Investigations
CLASS:PUBLIC
DESCRIPTION:Learn more about this event: https://www.ojp.gov/events/conduct
 ing-child-abuse-investigations-14
DTSTAMP:20260410T100710Z
END:VEVENT
END:VCALENDAR