BEGIN:VCALENDAR
VERSION:2.0
PRODID:-//Office of Justice Programs//NONSGML Event Calendar//EN
BEGIN:VEVENT
UID:a87c2fd0-9329-4b26-9b01-b3d04b955ff2
DTSTART;TZID=UTC:20231213T140000
SEQUENCE:0
TRANSP:OPAQUE
DTEND;TZID=UTC:20231214T220000
LOCATION:https://www.ojp.gov/events/following-evidence-child-abuse-and-chil
 d-exploitation-cases-0
SUMMARY:Following the Evidence in Child Abuse and Child Exploitation Cases
CLASS:PUBLIC
DESCRIPTION:Learn more about this event: https://www.ojp.gov/events/followi
 ng-evidence-child-abuse-and-child-exploitation-cases-0
DTSTAMP:20260410T074359Z
END:VEVENT
END:VCALENDAR