BEGIN:VCALENDAR
VERSION:2.0
PRODID:-//Office of Justice Programs//NONSGML Event Calendar//EN
BEGIN:VEVENT
UID:8915d646-66f0-4812-8c51-2a4fd15955e3
DTSTART;VALUE=DATE:20231127
SEQUENCE:0
TRANSP:OPAQUE
DTEND;VALUE=DATE:20231129
LOCATION:https://www.ojp.gov/events/2023-west-coast-regional-juvenile-justi
 ce-conference
SUMMARY:2023 West Coast Regional Juvenile Justice Conference
CLASS:PUBLIC
DESCRIPTION:Learn more about this event: https://www.ojp.gov/events/2023-we
 st-coast-regional-juvenile-justice-conference
X-MICROSOFT-CDO-ALLDAYEVENT:TRUE
DTSTAMP:20260412T015949Z
END:VEVENT
END:VCALENDAR