BEGIN:VCALENDAR
VERSION:2.0
PRODID:-//Office of Justice Programs//NONSGML Event Calendar//EN
BEGIN:VEVENT
UID:1ed1f941-8966-4cd3-82bf-4753299d45c0
DTSTART;TZID=UTC:20231214T190000
SEQUENCE:0
TRANSP:OPAQUE
DTEND;TZID=UTC:20231214T203000
LOCATION:https://www.ojp.gov/events/capturing-totality-traffickers-criminal
 ity
SUMMARY:Capturing the Totality of the Trafficker's Criminality
CLASS:PUBLIC
DESCRIPTION:Learn more about this event: https://www.ojp.gov/events/capturi
 ng-totality-traffickers-criminality
DTSTAMP:20260420T101717Z
END:VEVENT
END:VCALENDAR