BEGIN:VCALENDAR
VERSION:2.0
PRODID:-//Office of Justice Programs//NONSGML Event Calendar//EN
BEGIN:VEVENT
UID:5bd49063-b8c8-4ddd-8d05-76bd1da62236
DTSTART;TZID=UTC:20240201T193000
SEQUENCE:0
TRANSP:OPAQUE
DTEND;TZID=UTC:20240201T210000
LOCATION:https://www.ojp.gov/events/responding-trafficking-concerns-among-f
 oreign-national-children-and-youth
SUMMARY:Responding to Trafficking Concerns among Foreign National Children 
 and Youth
CLASS:PUBLIC
DESCRIPTION:Learn more about this event: https://www.ojp.gov/events/respond
 ing-trafficking-concerns-among-foreign-national-children-and-youth
DTSTAMP:20260426T004900Z
END:VEVENT
END:VCALENDAR