BEGIN:VCALENDAR
VERSION:2.0
PRODID:-//Office of Justice Programs//NONSGML Event Calendar//EN
BEGIN:VEVENT
UID:2f0ab464-5b50-43ff-9482-c9910f308118
DTSTART;TZID=UTC:20240227T140000
SEQUENCE:0
TRANSP:OPAQUE
DTEND;TZID=UTC:20240228T230000
LOCATION:https://www.ojp.gov/events/2024-national-amber-alert-and-amber-ale
 rt-indian-country-symposium
SUMMARY:2024 National AMBER Alert and AMBER Alert in Indian Country Symposi
 um
CLASS:PUBLIC
DESCRIPTION:Learn more about this event: https://www.ojp.gov/events/2024-na
 tional-amber-alert-and-amber-alert-indian-country-symposium
DTSTAMP:20260425T025543Z
END:VEVENT
END:VCALENDAR