BEGIN:VCALENDAR
VERSION:2.0
PRODID:-//Office of Justice Programs//NONSGML Event Calendar//EN
BEGIN:VEVENT
UID:8b6d1927-bd7c-4e8a-a840-66719e9eb41b
DTSTART;VALUE=DATE:20240629
SEQUENCE:0
TRANSP:OPAQUE
DTEND;VALUE=DATE:20240704
LOCATION:https://www.ojp.gov/events/unity-national-conference-united-nation
 al-indian-tribal-youth
SUMMARY:UNITY National Conference (United National Indian Tribal Youth) 
CLASS:PUBLIC
DESCRIPTION:Learn more about this event: https://www.ojp.gov/events/unity-n
 ational-conference-united-national-indian-tribal-youth
X-MICROSOFT-CDO-ALLDAYEVENT:TRUE
DTSTAMP:20260423T064408Z
END:VEVENT
END:VCALENDAR