BEGIN:VCALENDAR
VERSION:2.0
PRODID:-//Office of Justice Programs//NONSGML Event Calendar//EN
BEGIN:VEVENT
UID:659662a1-166d-4e10-b964-12464a749456
DTSTART;TZID=UTC:20240314T130000
SEQUENCE:0
TRANSP:OPAQUE
DTEND;TZID=UTC:20240314T220000
LOCATION:https://www.ojp.gov/events/amber-alert-activation-best-practices-1
 3
SUMMARY:AMBER Alert Activation Best Practices
CLASS:PUBLIC
DESCRIPTION:Learn more about this event: https://www.ojp.gov/events/amber-a
 lert-activation-best-practices-13
DTSTAMP:20260424T181335Z
END:VEVENT
END:VCALENDAR