BEGIN:VCALENDAR
VERSION:2.0
PRODID:-//Office of Justice Programs//NONSGML Event Calendar//EN
BEGIN:VEVENT
UID:0420080e-5a36-4723-9afb-bbc7475a4263
DTSTART;TZID=UTC:20240425T140000
SEQUENCE:0
TRANSP:OPAQUE
DTEND;TZID=UTC:20240425T210000
LOCATION:https://www.ojp.gov/events/child-abuse-suspicion-disclosure-1
SUMMARY:Child Abuse: From Suspicion to Disclosure
CLASS:PUBLIC
DESCRIPTION:Learn more about this event: https://www.ojp.gov/events/child-a
 buse-suspicion-disclosure-1
DTSTAMP:20260410T072334Z
END:VEVENT
END:VCALENDAR