BEGIN:VCALENDAR
VERSION:2.0
PRODID:-//Office of Justice Programs//NONSGML Event Calendar//EN
BEGIN:VEVENT
UID:e023f6a5-e98a-4fdc-91fe-82a60d778355
DTSTART;TZID=UTC:20240312T170000
SEQUENCE:0
TRANSP:OPAQUE
DTEND;TZID=UTC:20240312T190000
LOCATION:https://www.ojp.gov/events/opioid-affected-youth-initiative-webina
 r-public-health-and-safety-partnership-prevent-and
SUMMARY:Opioid Affected Youth Initiative Webinar: Public Health and Safety 
 Partnership to Prevent and Treat Overdose
CLASS:PUBLIC
DESCRIPTION:Learn more about this event: https://www.ojp.gov/events/opioid-
 affected-youth-initiative-webinar-public-health-and-safety-partnership-pre
 vent-and
DTSTAMP:20260425T125238Z
END:VEVENT
END:VCALENDAR