BEGIN:VCALENDAR
VERSION:2.0
PRODID:-//Office of Justice Programs//NONSGML Event Calendar//EN
BEGIN:VEVENT
UID:f3165e9e-3987-4228-b0c3-7a62529d609d
DTSTART;TZID=UTC:20240327T190000
SEQUENCE:0
TRANSP:OPAQUE
DTEND;TZID=UTC:20240327T200000
LOCATION:https://www.ojp.gov/events/ovc-fy24-preventing-trafficking-girls-p
 re-application-webinar
SUMMARY:OVC FY24 Preventing Trafficking of Girls Pre-Application Webinar
CLASS:PUBLIC
DESCRIPTION:Learn more about this event: https://www.ojp.gov/events/ovc-fy2
 4-preventing-trafficking-girls-pre-application-webinar
DTSTAMP:20260425T004038Z
END:VEVENT
END:VCALENDAR