BEGIN:VCALENDAR
VERSION:2.0
PRODID:-//Office of Justice Programs//NONSGML Event Calendar//EN
BEGIN:VEVENT
UID:620c9662-2dd4-4bdd-9f5f-7ff807ef719d
DTSTART;TZID=UTC:20241112T190000
SEQUENCE:0
TRANSP:OPAQUE
DTEND;TZID=UTC:20241112T203000
LOCATION:https://www.ojp.gov/events/sustained-recovery-dont-make-aftercare-
 afterthought
SUMMARY:Sustained Recovery: Don’t Make Aftercare an Afterthought
CLASS:PUBLIC
DESCRIPTION:Learn more about this event: https://www.ojp.gov/events/sustain
 ed-recovery-dont-make-aftercare-afterthought
DTSTAMP:20260425T095516Z
END:VEVENT
END:VCALENDAR