BEGIN:VCALENDAR
VERSION:2.0
PRODID:-//Office of Justice Programs//NONSGML Event Calendar//EN
BEGIN:VEVENT
UID:f8e03718-c16e-4334-a692-a8518bc09681
DTSTART;TZID=UTC:20240401T170000
SEQUENCE:0
TRANSP:OPAQUE
DTEND;TZID=UTC:20240401T183000
LOCATION:https://www.ojp.gov/events/justgrants-weekly-training-webinar-post
 -award-management-6
SUMMARY:JustGrants Weekly Training Webinar: Post-Award Management
CLASS:PUBLIC
DESCRIPTION:Learn more about this event: https://www.ojp.gov/events/justgra
 nts-weekly-training-webinar-post-award-management-6
DTSTAMP:20260425T201656Z
END:VEVENT
END:VCALENDAR