BEGIN:VCALENDAR
VERSION:2.0
PRODID:-//Office of Justice Programs//NONSGML Event Calendar//EN
BEGIN:VEVENT
UID:42d49c2f-8f06-42cf-8b6d-0eea4752ac45
DTSTART;TZID=UTC:20240409T180000
SEQUENCE:0
TRANSP:OPAQUE
DTEND;TZID=UTC:20240409T190000
LOCATION:https://www.ojp.gov/events/justgrants-weekly-training-webinar-enti
 ty-management-7
SUMMARY:JustGrants Weekly Training Webinar: Entity Management
CLASS:PUBLIC
DESCRIPTION:Learn more about this event: https://www.ojp.gov/events/justgra
 nts-weekly-training-webinar-entity-management-7
DTSTAMP:20260425T173544Z
END:VEVENT
END:VCALENDAR