BEGIN:VCALENDAR
VERSION:2.0
PRODID:-//Office of Justice Programs//NONSGML Event Calendar//EN
BEGIN:VEVENT
UID:02a27e6d-11d6-4b3f-8113-f2a451fbd67e
DTSTART;TZID=UTC:20240410T183000
SEQUENCE:0
TRANSP:OPAQUE
DTEND;TZID=UTC:20240410T203000
LOCATION:https://www.ojp.gov/events/justgrants-weekly-training-webinar-appl
 ication-mechanics-submitting-application-training-8
SUMMARY:JustGrants Weekly Training Webinar: Application Mechanics: Submitti
 ng an Application Training
CLASS:PUBLIC
DESCRIPTION:Learn more about this event: https://www.ojp.gov/events/justgra
 nts-weekly-training-webinar-application-mechanics-submitting-application-t
 raining-8
DTSTAMP:20260424T045023Z
END:VEVENT
END:VCALENDAR