BEGIN:VCALENDAR
VERSION:2.0
PRODID:-//Office of Justice Programs//NONSGML Event Calendar//EN
BEGIN:VEVENT
UID:d14ee3b3-2014-47d3-bd98-d5176f97c86c
DTSTART;TZID=UTC:20241202T133000
SEQUENCE:0
TRANSP:OPAQUE
DTEND;TZID=UTC:20241206T173000
LOCATION:https://www.ojp.gov/events/conducting-child-abuse-investigations-2
 0
SUMMARY:Conducting Child Abuse Investigations
CLASS:PUBLIC
DESCRIPTION:Learn more about this event: https://www.ojp.gov/events/conduct
 ing-child-abuse-investigations-20
DTSTAMP:20260411T143826Z
END:VEVENT
END:VCALENDAR