BEGIN:VCALENDAR
VERSION:2.0
PRODID:-//Office of Justice Programs//NONSGML Event Calendar//EN
BEGIN:VEVENT
UID:d826c43a-eacd-4286-9f72-3b152b5990bc
DTSTART;TZID=UTC:20240624T150000
SEQUENCE:0
TRANSP:OPAQUE
DTEND;TZID=UTC:20240625T210000
LOCATION:https://www.ojp.gov/events/presenting-evidence-child-forensic-inte
 rviews-1
SUMMARY:Presenting Evidence in Child Forensic Interviews
CLASS:PUBLIC
DESCRIPTION:Learn more about this event: https://www.ojp.gov/events/present
 ing-evidence-child-forensic-interviews-1
DTSTAMP:20260409T121646Z
END:VEVENT
END:VCALENDAR