BEGIN:VCALENDAR
VERSION:2.0
PRODID:-//Office of Justice Programs//NONSGML Event Calendar//EN
BEGIN:VEVENT
UID:13e49ab9-fe97-4ffa-8dc0-8fc6a6ee702a
DTSTART;TZID=UTC:20240708T130000
SEQUENCE:0
TRANSP:OPAQUE
DTEND;TZID=UTC:20240709T200000
LOCATION:https://www.ojp.gov/events/presenting-evidence-child-forensic-inte
 rviews-2
SUMMARY:Presenting Evidence in Child Forensic Interviews
CLASS:PUBLIC
DESCRIPTION:Learn more about this event: https://www.ojp.gov/events/present
 ing-evidence-child-forensic-interviews-2
DTSTAMP:20260409T222620Z
END:VEVENT
END:VCALENDAR