BEGIN:VCALENDAR
VERSION:2.0
PRODID:-//Office of Justice Programs//NONSGML Event Calendar//EN
BEGIN:VEVENT
UID:2e1fe9ed-5c68-435a-847b-12d2e188f1aa
DTSTART;TZID=UTC:20240724T130000
SEQUENCE:0
TRANSP:OPAQUE
DTEND;TZID=UTC:20240725T210000
LOCATION:https://www.ojp.gov/events/following-evidence-child-abuse-and-chil
 d-exploitation-cases-3
SUMMARY:Following the Evidence in Child Abuse and Child Exploitation Cases
CLASS:PUBLIC
DESCRIPTION:Learn more about this event: https://www.ojp.gov/events/followi
 ng-evidence-child-abuse-and-child-exploitation-cases-3
DTSTAMP:20260409T020601Z
END:VEVENT
END:VCALENDAR