BEGIN:VCALENDAR
VERSION:2.0
PRODID:-//Office of Justice Programs//NONSGML Event Calendar//EN
BEGIN:VEVENT
UID:4b606d11-70f3-4385-a30b-0bdca228d52f
DTSTART;TZID=UTC:20240514T170000
SEQUENCE:0
TRANSP:OPAQUE
DTEND;TZID=UTC:20240514T193000
LOCATION:https://www.ojp.gov/events/digital-crimes-update-technology-trends
 -and-dangers-youth
SUMMARY:Digital Crimes: An Update on Technology Trends and Dangers for Yout
 h
CLASS:PUBLIC
DESCRIPTION:Learn more about this event: https://www.ojp.gov/events/digital
 -crimes-update-technology-trends-and-dangers-youth
DTSTAMP:20260413T175210Z
END:VEVENT
END:VCALENDAR