BEGIN:VCALENDAR
VERSION:2.0
PRODID:-//Office of Justice Programs//NONSGML Event Calendar//EN
BEGIN:VEVENT
UID:f8e5f48e-bcb0-4702-a2c1-3ff2a71731bc
DTSTART;TZID=UTC:20240514T180000
SEQUENCE:0
TRANSP:OPAQUE
DTEND;TZID=UTC:20240514T190000
LOCATION:https://www.ojp.gov/events/justgrants-weekly-training-webinar-enti
 ty-management-9
SUMMARY:JustGrants Weekly Training Webinar: Entity Management
CLASS:PUBLIC
DESCRIPTION:Learn more about this event: https://www.ojp.gov/events/justgra
 nts-weekly-training-webinar-entity-management-9
DTSTAMP:20260423T220244Z
END:VEVENT
END:VCALENDAR