BEGIN:VCALENDAR
VERSION:2.0
PRODID:-//Office of Justice Programs//NONSGML Event Calendar//EN
BEGIN:VEVENT
UID:3e32da94-3f3b-4081-a965-412ea5a90304
DTSTART;TZID=UTC:20240528T180000
SEQUENCE:0
TRANSP:OPAQUE
DTEND;TZID=UTC:20240528T190000
LOCATION:https://www.ojp.gov/events/justgrants-weekly-training-webinar-enti
 ty-management-10
SUMMARY:JustGrants Weekly Training Webinar: Entity Management
CLASS:PUBLIC
DESCRIPTION:Learn more about this event: https://www.ojp.gov/events/justgra
 nts-weekly-training-webinar-entity-management-10
DTSTAMP:20260425T201823Z
END:VEVENT
END:VCALENDAR