BEGIN:VCALENDAR
VERSION:2.0
PRODID:-//Office of Justice Programs//NONSGML Event Calendar//EN
BEGIN:VEVENT
UID:b46fc7e4-1349-4e59-9539-d5f634ba1c55
DTSTART;TZID=UTC:20240611T180000
SEQUENCE:0
TRANSP:OPAQUE
DTEND;TZID=UTC:20240611T190000
LOCATION:https://www.ojp.gov/events/justgrants-weekly-training-webinar-enti
 ty-management-11
SUMMARY:JustGrants Weekly Training Webinar: Entity Management
CLASS:PUBLIC
DESCRIPTION:Learn more about this event: https://www.ojp.gov/events/justgra
 nts-weekly-training-webinar-entity-management-11
DTSTAMP:20260425T201742Z
END:VEVENT
END:VCALENDAR