BEGIN:VCALENDAR
VERSION:2.0
PRODID:-//Office of Justice Programs//NONSGML Event Calendar//EN
BEGIN:VEVENT
UID:33dfe3d4-e092-4b27-90b9-b5a5320107a1
DTSTART;TZID=UTC:20240723T180000
SEQUENCE:0
TRANSP:OPAQUE
DTEND;TZID=UTC:20240723T190000
LOCATION:https://www.ojp.gov/events/justgrants-weekly-training-webinar-enti
 ty-management-14
SUMMARY:JustGrants Weekly Training Webinar: Entity Management
CLASS:PUBLIC
DESCRIPTION:Learn more about this event: https://www.ojp.gov/events/justgra
 nts-weekly-training-webinar-entity-management-14
DTSTAMP:20260425T003308Z
END:VEVENT
END:VCALENDAR