BEGIN:VCALENDAR
VERSION:2.0
PRODID:-//Office of Justice Programs//NONSGML Event Calendar//EN
BEGIN:VEVENT
UID:ab1c2fbd-5260-4d3a-bdb9-da5a01159653
DTSTART;TZID=UTC:20240813T180000
SEQUENCE:0
TRANSP:OPAQUE
DTEND;TZID=UTC:20240813T190000
LOCATION:https://www.ojp.gov/events/justgrants-weekly-training-webinar-enti
 ty-management-15
SUMMARY:JustGrants Weekly Training Webinar: Entity Management
CLASS:PUBLIC
DESCRIPTION:Learn more about this event: https://www.ojp.gov/events/justgra
 nts-weekly-training-webinar-entity-management-15
DTSTAMP:20260424T161639Z
END:VEVENT
END:VCALENDAR