BEGIN:VCALENDAR
VERSION:2.0
PRODID:-//Office of Justice Programs//NONSGML Event Calendar//EN
BEGIN:VEVENT
UID:bfeea9fc-e717-40a4-b4ab-8d55ed498824
DTSTART;TZID=UTC:20240827T180000
SEQUENCE:0
TRANSP:OPAQUE
DTEND;TZID=UTC:20240827T190000
LOCATION:https://www.ojp.gov/events/justgrants-weekly-training-webinar-enti
 ty-management-16
SUMMARY:JustGrants Weekly Training Webinar: Entity Management
CLASS:PUBLIC
DESCRIPTION:Learn more about this event: https://www.ojp.gov/events/justgra
 nts-weekly-training-webinar-entity-management-16
DTSTAMP:20260424T043355Z
END:VEVENT
END:VCALENDAR