BEGIN:VCALENDAR
VERSION:2.0
PRODID:-//Office of Justice Programs//NONSGML Event Calendar//EN
BEGIN:VEVENT
UID:b54e2e43-b4ff-4d0e-8ac3-9f3d884344a5
DTSTART;TZID=UTC:20240515T183000
SEQUENCE:0
TRANSP:OPAQUE
DTEND;TZID=UTC:20240515T203000
LOCATION:https://www.ojp.gov/events/justgrants-weekly-training-webinar-appl
 ication-mechanics-submitting-application-training-13
SUMMARY:JustGrants Weekly Training Webinar: Application Mechanics: Submitti
 ng an Application Training
CLASS:PUBLIC
DESCRIPTION:Learn more about this event: https://www.ojp.gov/events/justgra
 nts-weekly-training-webinar-application-mechanics-submitting-application-t
 raining-13
DTSTAMP:20260425T184248Z
END:VEVENT
END:VCALENDAR