BEGIN:VCALENDAR
VERSION:2.0
PRODID:-//Office of Justice Programs//NONSGML Event Calendar//EN
BEGIN:VEVENT
UID:1fbcdc44-d42d-4d0c-99ef-34c7e8c5351b
DTSTART;TZID=UTC:20240522T183000
SEQUENCE:0
TRANSP:OPAQUE
DTEND;TZID=UTC:20240522T203000
LOCATION:https://www.ojp.gov/events/justgrants-weekly-training-webinar-appl
 ication-mechanics-submitting-application-training-14
SUMMARY:JustGrants Weekly Training Webinar: Application Mechanics: Submitti
 ng an Application Training
CLASS:PUBLIC
DESCRIPTION:Learn more about this event: https://www.ojp.gov/events/justgra
 nts-weekly-training-webinar-application-mechanics-submitting-application-t
 raining-14
DTSTAMP:20260424T174853Z
END:VEVENT
END:VCALENDAR