BEGIN:VCALENDAR
VERSION:2.0
PRODID:-//Office of Justice Programs//NONSGML Event Calendar//EN
BEGIN:VEVENT
UID:f97990b2-8429-467f-bcdc-f1be54767339
DTSTART;TZID=UTC:20240529T183000
SEQUENCE:0
TRANSP:OPAQUE
DTEND;TZID=UTC:20240529T203000
LOCATION:https://www.ojp.gov/events/justgrants-weekly-training-webinar-appl
 ication-mechanics-submitting-application-training-15
SUMMARY:JustGrants Weekly Training Webinar: Application Mechanics: Submitti
 ng an Application Training
CLASS:PUBLIC
DESCRIPTION:Learn more about this event: https://www.ojp.gov/events/justgra
 nts-weekly-training-webinar-application-mechanics-submitting-application-t
 raining-15
DTSTAMP:20260424T062739Z
END:VEVENT
END:VCALENDAR