BEGIN:VCALENDAR
VERSION:2.0
PRODID:-//Office of Justice Programs//NONSGML Event Calendar//EN
BEGIN:VEVENT
UID:9e659ad4-b9ef-401f-8521-936d15081122
DTSTART;TZID=UTC:20240605T183000
SEQUENCE:0
TRANSP:OPAQUE
DTEND;TZID=UTC:20240605T203000
LOCATION:https://www.ojp.gov/events/justgrants-weekly-training-webinar-appl
 ication-mechanics-submitting-application-training-16
SUMMARY:JustGrants Weekly Training Webinar: Application Mechanics: Submitti
 ng an Application Training
CLASS:PUBLIC
DESCRIPTION:Learn more about this event: https://www.ojp.gov/events/justgra
 nts-weekly-training-webinar-application-mechanics-submitting-application-t
 raining-16
DTSTAMP:20260425T184211Z
END:VEVENT
END:VCALENDAR