BEGIN:VCALENDAR
VERSION:2.0
PRODID:-//Office of Justice Programs//NONSGML Event Calendar//EN
BEGIN:VEVENT
UID:6ccc61f8-d6e8-4c01-8dc2-b9a92591eb17
DTSTART;TZID=UTC:20240814T183000
SEQUENCE:0
TRANSP:OPAQUE
DTEND;TZID=UTC:20240814T203000
LOCATION:https://www.ojp.gov/events/justgrants-weekly-training-webinar-appl
 ication-mechanics-submitting-application-training-26
SUMMARY:JustGrants Weekly Training Webinar: Application Mechanics: Submitti
 ng an Application Training
CLASS:PUBLIC
DESCRIPTION:Learn more about this event: https://www.ojp.gov/events/justgra
 nts-weekly-training-webinar-application-mechanics-submitting-application-t
 raining-26
DTSTAMP:20260424T101545Z
END:VEVENT
END:VCALENDAR