BEGIN:VCALENDAR
VERSION:2.0
PRODID:-//Office of Justice Programs//NONSGML Event Calendar//EN
BEGIN:VEVENT
UID:90022844-11af-4941-95c3-cd89b7e26e64
DTSTART;TZID=UTC:20240506T170000
SEQUENCE:0
TRANSP:OPAQUE
DTEND;TZID=UTC:20240506T183000
LOCATION:https://www.ojp.gov/events/justgrants-weekly-training-webinar-post
 -award-management-8
SUMMARY:JustGrants Weekly Training Webinar: Post-Award Management
CLASS:PUBLIC
DESCRIPTION:Learn more about this event: https://www.ojp.gov/events/justgra
 nts-weekly-training-webinar-post-award-management-8
DTSTAMP:20260425T170553Z
END:VEVENT
END:VCALENDAR