BEGIN:VCALENDAR
VERSION:2.0
PRODID:-//Office of Justice Programs//NONSGML Event Calendar//EN
BEGIN:VEVENT
UID:487f1b4c-c5b9-4105-96f4-8af818582b94
DTSTART;TZID=UTC:20240819T170000
SEQUENCE:0
TRANSP:OPAQUE
DTEND;TZID=UTC:20240819T183000
LOCATION:https://www.ojp.gov/events/justgrants-weekly-training-webinar-post
 -award-management-15
SUMMARY:JustGrants Weekly Training Webinar: Post-Award Management
CLASS:PUBLIC
DESCRIPTION:Learn more about this event: https://www.ojp.gov/events/justgra
 nts-weekly-training-webinar-post-award-management-15
DTSTAMP:20260425T170553Z
END:VEVENT
END:VCALENDAR